BEGIN:VCALENDAR
VERSION:2.0
PRODID:-//Tukios.com/
BEGIN:VEVENT
UID:2be06ab2-58f8-4f86-a7ed-4e51a36d1902@www.whitleysfuneralhome.com
DTSTAMP:20260425T184658Z
DTSTART:20260501T190000Z
DTEND:20260501T200000Z
SUMMARY:Celebration of Life
DESCRIPTION:
URL:https://www.whitleysfuneralhome.com/obituaries/paul-adams
LOCATION: 210 North Central Avenue  Landis NC 28088
GEO:35.5478459;-80.6074765
END:VEVENT
END:VCALENDAR