BEGIN:VCALENDAR
VERSION:2.0
PRODID:-//Tukios.com/
BEGIN:VEVENT
UID:2385dde4-3461-4ba1-aa74-7748925239ad@www.whitleysfuneralhome.com
DTSTAMP:20260425T184704Z
DTSTART:20260501T170000Z
DTEND:20260501T190000Z
SUMMARY:Visitation
DESCRIPTION:
URL:https://www.whitleysfuneralhome.com/obituaries/paul-adams
LOCATION: 210 North Central Avenue  Landis NC 28088
GEO:35.5478459;-80.6074765
END:VEVENT
END:VCALENDAR