BEGIN:VCALENDAR
VERSION:2.0
PRODID:-//Tukios.com/
BEGIN:VEVENT
UID:3e4c36cf-51cb-42c1-8302-35b009e4fa26@www.whitleysfuneralhome.com
DTSTAMP:20260426T002323Z
DTSTART:20260503T180000Z
DTEND:20260503T190000Z
SUMMARY:Visitation
DESCRIPTION:
URL:https://www.whitleysfuneralhome.com/obituaries/martha-erwin
LOCATION:Shadybrook Baptist Church 1009 Oakwood Avenue  Kannapolis NC 
	28081
GEO:35.4802211;-80.6363258
END:VEVENT
END:VCALENDAR