BEGIN:VCALENDAR
VERSION:2.0
PRODID:-//Tukios.com/
BEGIN:VEVENT
UID:30aa21af-c3da-40e4-9c55-06bf3e5922b2@www.whitleysfuneralhome.com
DTSTAMP:20260420T164136Z
DTSTART:20260425T150000Z
DTEND:20260425T160000Z
SUMMARY:Funeral Service
DESCRIPTION:
URL:https://www.whitleysfuneralhome.com/obituaries/dona-baucom
LOCATION:First Baptist Church of Kannapolis 101 North Main Street  
	Kannapolis NC 28081
GEO:35.4985186;-80.6245831
END:VEVENT
END:VCALENDAR