BEGIN:VCALENDAR
VERSION:2.0
PRODID:-//Tukios.com/
BEGIN:VEVENT
UID:7918ecca-c5c6-4da1-b29f-892f2ce2fc4d@www.whitleysfuneralhome.com
DTSTAMP:20260420T163911Z
DTSTART:20260425T160000Z
DTEND:20260425T163000Z
SUMMARY:Burial
DESCRIPTION:
URL:https://www.whitleysfuneralhome.com/obituaries/dona-baucom
LOCATION: 601 Mount Olivet Road  Concord NC 28025
GEO:35.453296;-80.611762
END:VEVENT
END:VCALENDAR