BEGIN:VCALENDAR
VERSION:2.0
PRODID:-//Tukios.com/
BEGIN:VEVENT
UID:64c191ee-8cdb-4072-940f-7c9308ea959e@www.whitleysfuneralhome.com
DTSTAMP:20260420T164136Z
DTSTART:20260425T140000Z
DTEND:20260425T144500Z
SUMMARY:Visitation
DESCRIPTION:
URL:https://www.whitleysfuneralhome.com/obituaries/dona-baucom
LOCATION:First Baptist Church of Kannapolis 101 North Main Street  
	Kannapolis NC 28081
GEO:35.4985186;-80.6245831
END:VEVENT
END:VCALENDAR